BEGIN:VCALENDAR
VERSION:2.0
PRODID:-//Sound-Scribe - ECPv6.15.20//NONSGML v1.0//EN
CALSCALE:GREGORIAN
METHOD:PUBLISH
X-WR-CALNAME:Sound-Scribe
X-ORIGINAL-URL:https://sound-scribe.com
X-WR-CALDESC:Akce na Sound-Scribe
REFRESH-INTERVAL;VALUE=DURATION:PT1H
X-Robots-Tag:noindex
X-PUBLISHED-TTL:PT1H
BEGIN:VTIMEZONE
TZID:Europe/Prague
BEGIN:DAYLIGHT
TZOFFSETFROM:+0100
TZOFFSETTO:+0200
TZNAME:CEST
DTSTART:20250330T010000
END:DAYLIGHT
BEGIN:STANDARD
TZOFFSETFROM:+0200
TZOFFSETTO:+0100
TZNAME:CET
DTSTART:20251026T010000
END:STANDARD
BEGIN:DAYLIGHT
TZOFFSETFROM:+0100
TZOFFSETTO:+0200
TZNAME:CEST
DTSTART:20260329T010000
END:DAYLIGHT
BEGIN:STANDARD
TZOFFSETFROM:+0200
TZOFFSETTO:+0100
TZNAME:CET
DTSTART:20261025T010000
END:STANDARD
BEGIN:DAYLIGHT
TZOFFSETFROM:+0100
TZOFFSETTO:+0200
TZNAME:CEST
DTSTART:20270328T010000
END:DAYLIGHT
BEGIN:STANDARD
TZOFFSETFROM:+0200
TZOFFSETTO:+0100
TZNAME:CET
DTSTART:20271031T010000
END:STANDARD
END:VTIMEZONE
BEGIN:VEVENT
DTSTART;TZID=Europe/Prague:20260812T190000
DTEND;TZID=Europe/Prague:20260812T190000
DTSTAMP:20260425T175955
CREATED:20260109T121416Z
LAST-MODIFIED:20260109T121416Z
UID:16248-1786561200-1786561200@sound-scribe.com
SUMMARY:Alien Ant Farm
DESCRIPTION:
URL:https://sound-scribe.com/event/alien-ant-farm/
LOCATION:Rock Café\, Národní 116/20\, Praha\, 110 00\, Czech Republic
ATTACH;FMTTYPE=image/jpeg:https://sound-scribe.com/wp-content/uploads/2026/01/alien_ant_farm_praha_rock_cafe_26.jpg
END:VEVENT
BEGIN:VEVENT
DTSTART;TZID=Europe/Prague:20260812T190000
DTEND;TZID=Europe/Prague:20260812T190000
DTSTAMP:20260425T175955
CREATED:20260305T152725Z
LAST-MODIFIED:20260305T152725Z
UID:18008-1786561200-1786561200@sound-scribe.com
SUMMARY:Armored Saint
DESCRIPTION:
URL:https://sound-scribe.com/event/armored-saint/
LOCATION:Collosseum\, Vrátna 639/70\, Košice\, 040 01\, Slovakia (Slovak Republic)
ATTACH;FMTTYPE=image/jpeg:https://sound-scribe.com/wp-content/uploads/2026/03/Armored-Saint_kosice_colosseum_26.jpg
END:VEVENT
BEGIN:VEVENT
DTSTART;TZID=Europe/Prague:20260813T120000
DTEND;TZID=Europe/Prague:20260815T233000
DTSTAMP:20260425T175955
CREATED:20250928T154229Z
LAST-MODIFIED:20260109T114854Z
UID:13014-1786622400-1786836600@sound-scribe.com
SUMMARY:Rock Castle 2026
DESCRIPTION:
URL:https://sound-scribe.com/event/rock-castle-2026/
LOCATION:Areál zámeckého parku\, Zámecká 1\, Moravský Krumlov\, 672 01\, Czech Republic
ATTACH;FMTTYPE=image/jpeg:https://sound-scribe.com/wp-content/uploads/2025/09/RC26-2223x1158-web-5.jpg
END:VEVENT
BEGIN:VEVENT
DTSTART;TZID=Europe/Prague:20260828T190000
DTEND;TZID=Europe/Prague:20260828T190000
DTSTAMP:20260425T175955
CREATED:20260130T115413Z
LAST-MODIFIED:20260130T115413Z
UID:16948-1787943600-1787943600@sound-scribe.com
SUMMARY:Stellvris & Mission In Black
DESCRIPTION:
URL:https://sound-scribe.com/event/stellvris-mission-in-black/
LOCATION:Rockclub Nordbayern Bavaria Heim\, Vielitz 37\, Selb\, 95100\, Germany
ATTACH;FMTTYPE=image/jpeg:https://sound-scribe.com/wp-content/uploads/2026/01/2026-08-28-Mission-in-Black-Stellvris-A4.jpg
END:VEVENT
BEGIN:VEVENT
DTSTART;TZID=Europe/Prague:20260904T190000
DTEND;TZID=Europe/Prague:20260904T190000
DTSTAMP:20260425T175955
CREATED:20260205T065344Z
LAST-MODIFIED:20260205T065344Z
UID:17098-1788548400-1788548400@sound-scribe.com
SUMMARY:Steve’n’Seagulls
DESCRIPTION:
URL:https://sound-scribe.com/event/stevenseagulls/
LOCATION:Fléda\, Štefánikova 95\, Brno\, 602 00\, Czech Republic
ATTACH;FMTTYPE=image/jpeg:https://sound-scribe.com/wp-content/uploads/2026/02/steve_n_seagulls_fleda_brno_26.jpg
END:VEVENT
BEGIN:VEVENT
DTSTART;TZID=Europe/Prague:20260905T193000
DTEND;TZID=Europe/Prague:20260905T193000
DTSTAMP:20260425T175955
CREATED:20260306T192115Z
LAST-MODIFIED:20260306T192115Z
UID:18037-1788636600-1788636600@sound-scribe.com
SUMMARY:Junkyard Drive
DESCRIPTION:
URL:https://sound-scribe.com/event/junkyard-drive/
LOCATION:Rockclub Nordbayern Bavaria Heim\, Vielitz 37\, Selb\, 95100\, Germany
ATTACH;FMTTYPE=image/jpeg:https://sound-scribe.com/wp-content/uploads/2026/03/2026-09-05-Junkyard-Drive.jpg
END:VEVENT
BEGIN:VEVENT
DTSTART;TZID=Europe/Prague:20260906T190000
DTEND;TZID=Europe/Prague:20260906T190000
DTSTAMP:20260425T175955
CREATED:20260413T133143Z
LAST-MODIFIED:20260413T133143Z
UID:19565-1788721200-1788721200@sound-scribe.com
SUMMARY:On Company Time
DESCRIPTION:
URL:https://sound-scribe.com/event/on-company-time/
LOCATION:Rock Café\, Národní 116/20\, Praha\, 110 00\, Czech Republic
ATTACH;FMTTYPE=image/jpeg:https://sound-scribe.com/wp-content/uploads/2026/04/OCT_praha_rock_cafe_26.jpg
END:VEVENT
BEGIN:VEVENT
DTSTART;TZID=Europe/Prague:20260915T190000
DTEND;TZID=Europe/Prague:20260915T190000
DTSTAMP:20260425T175955
CREATED:20251211T080758Z
LAST-MODIFIED:20251211T080758Z
UID:15416-1789498800-1789498800@sound-scribe.com
SUMMARY:Black Stone Cherry
DESCRIPTION:
URL:https://sound-scribe.com/event/black-stone-cherry/
LOCATION:MeetFactory\, Ke Sklárně 3213/15\, Praha\, 150 00\, Czech Republic
END:VEVENT
BEGIN:VEVENT
DTSTART;TZID=Europe/Prague:20260916T180000
DTEND;TZID=Europe/Prague:20260916T180000
DTSTAMP:20260425T175955
CREATED:20260109T121610Z
LAST-MODIFIED:20260109T121610Z
UID:16251-1789581600-1789581600@sound-scribe.com
SUMMARY:Jazz Sabath
DESCRIPTION:
URL:https://sound-scribe.com/event/jazz-sabath/
LOCATION:Výstaviště\, Holešovice\, Prague 7\, 170 00\, Czech Republic
END:VEVENT
BEGIN:VEVENT
DTSTART;TZID=Europe/Prague:20260922T190000
DTEND;TZID=Europe/Prague:20260922T190000
DTSTAMP:20260425T175955
CREATED:20260413T133504Z
LAST-MODIFIED:20260413T133504Z
UID:19571-1790103600-1790103600@sound-scribe.com
SUMMARY:Allegaeon\, Gorod
DESCRIPTION:
URL:https://sound-scribe.com/event/allegaeon-gorod/
LOCATION:Black Pes Music Club\, Staroklánovická 204\, Praha-Klánovice\, 190 14\, Czech Republic
ATTACH;FMTTYPE=image/jpeg:https://sound-scribe.com/wp-content/uploads/2026/04/allegaeon_praha_klanovice_26.jpg
END:VEVENT
BEGIN:VEVENT
DTSTART;TZID=Europe/Prague:20260923T190000
DTEND;TZID=Europe/Prague:20260923T190000
DTSTAMP:20260425T175955
CREATED:20260413T133730Z
LAST-MODIFIED:20260413T133730Z
UID:19574-1790190000-1790190000@sound-scribe.com
SUMMARY:Tenside\, Aurorawave - Košice
DESCRIPTION:
URL:https://sound-scribe.com/event/tenside-aurorawave-kosice/
LOCATION:Collosseum\, Vrátna 639/70\, Košice\, 040 01\, Slovakia (Slovak Republic)
ATTACH;FMTTYPE=image/jpeg:https://sound-scribe.com/wp-content/uploads/2026/04/tenside_aurorawave_kosice_26.jpg
END:VEVENT
BEGIN:VEVENT
DTSTART;TZID=Europe/Prague:20260925T190000
DTEND;TZID=Europe/Prague:20260925T190000
DTSTAMP:20260425T175955
CREATED:20260223T141537Z
LAST-MODIFIED:20260223T141537Z
UID:17628-1790362800-1790362800@sound-scribe.com
SUMMARY:Spiritbox + Jinjer + Dying Wish
DESCRIPTION:
URL:https://sound-scribe.com/event/spiritbox-jinjer-dying-wish/
LOCATION:Forum Karlín\, Pernerova 51\, Praha\, 186 00\, Czech Republic
ATTACH;FMTTYPE=image/jpeg:https://sound-scribe.com/wp-content/uploads/2026/02/SpiritBox-1920x1080RZ.jpg
END:VEVENT
BEGIN:VEVENT
DTSTART;TZID=Europe/Prague:20260926T190000
DTEND;TZID=Europe/Prague:20260926T190000
DTSTAMP:20260425T175955
CREATED:20260413T134435Z
LAST-MODIFIED:20260413T134435Z
UID:19577-1790449200-1790449200@sound-scribe.com
SUMMARY:Tenside\, Aurorawave - Praha
DESCRIPTION:
URL:https://sound-scribe.com/event/tenside-aurorawave-praha/
LOCATION:Cross Club\, Plynární 1096\, Praha 7\, 170 00\, Czech Republic
ATTACH;FMTTYPE=image/jpeg:https://sound-scribe.com/wp-content/uploads/2026/04/tenside_aurorawave_praha_26.jpg
END:VEVENT
BEGIN:VEVENT
DTSTART;TZID=Europe/Prague:20260926T193000
DTEND;TZID=Europe/Prague:20260926T193000
DTSTAMP:20260425T175955
CREATED:20260306T192242Z
LAST-MODIFIED:20260306T192242Z
UID:18040-1790451000-1790451000@sound-scribe.com
SUMMARY:Asenblut
DESCRIPTION:
URL:https://sound-scribe.com/event/asenblut/
LOCATION:Rockclub Nordbayern Bavaria Heim\, Vielitz 37\, Selb\, 95100\, Germany
ATTACH;FMTTYPE=image/jpeg:https://sound-scribe.com/wp-content/uploads/2026/03/2026-09-26-Asenblut.jpg
END:VEVENT
BEGIN:VEVENT
DTSTART;TZID=Europe/Prague:20260927T190000
DTEND;TZID=Europe/Prague:20260927T190000
DTSTAMP:20260425T175955
CREATED:20260413T134613Z
LAST-MODIFIED:20260413T134613Z
UID:19580-1790535600-1790535600@sound-scribe.com
SUMMARY:King Dude
DESCRIPTION:
URL:https://sound-scribe.com/event/king-dude/
LOCATION:Subzero\, Nádražní 3\, Praha 5\, 150 00\, Czech Republic
ATTACH;FMTTYPE=image/jpeg:https://sound-scribe.com/wp-content/uploads/2026/04/king_dude_praha_subzero_26.jpg
END:VEVENT
BEGIN:VEVENT
DTSTART;TZID=Europe/Prague:20260928T180000
DTEND;TZID=Europe/Prague:20260928T180000
DTSTAMP:20260425T175955
CREATED:20260318T101227Z
LAST-MODIFIED:20260318T101227Z
UID:18399-1790618400-1790618400@sound-scribe.com
SUMMARY:HUMANITY’S LAST BREATH
DESCRIPTION:
URL:https://sound-scribe.com/event/humanitys-last-breath/
LOCATION:Rock Café\, Národní 116/20\, Praha\, 110 00\, Czech Republic
ATTACH;FMTTYPE=image/jpeg:https://sound-scribe.com/wp-content/uploads/2026/03/HUMANITYS_LAST_BREATH_praha_rock_cafe_26.jpg
END:VEVENT
BEGIN:VEVENT
DTSTART;TZID=Europe/Prague:20261001T180000
DTEND;TZID=Europe/Prague:20261001T180000
DTSTAMP:20260425T175955
CREATED:20260223T145210Z
LAST-MODIFIED:20260223T145210Z
UID:17648-1790877600-1790877600@sound-scribe.com
SUMMARY:The Amity Affliction\, Silent Planet\, Varials\, Orthodox
DESCRIPTION:
URL:https://sound-scribe.com/event/the-amity-affliction-silent-planet-varials-orthodox/
LOCATION:ROXY\, Dlouhá 33\, Praha\, 110 00\, Czech Republic
ATTACH;FMTTYPE=image/jpeg:https://sound-scribe.com/wp-content/uploads/2026/02/amity_affliction_praha_roxy_26.jpg
END:VEVENT
BEGIN:VEVENT
DTSTART;TZID=Europe/Prague:20261001T190000
DTEND;TZID=Europe/Prague:20261001T190000
DTSTAMP:20260425T175955
CREATED:20260413T134758Z
LAST-MODIFIED:20260413T134758Z
UID:19583-1790881200-1790881200@sound-scribe.com
SUMMARY:Havok
DESCRIPTION:
URL:https://sound-scribe.com/event/havok/
LOCATION:Futurum Music Bar\, Zborovská 82/7\, Praha\, 150 00\, Czech Republic
ATTACH;FMTTYPE=image/jpeg:https://sound-scribe.com/wp-content/uploads/2026/04/havok_praha_futurum_26.jpg
END:VEVENT
BEGIN:VEVENT
DTSTART;TZID=Europe/Prague:20261007T190000
DTEND;TZID=Europe/Prague:20261007T190000
DTSTAMP:20260425T175955
CREATED:20260413T134940Z
LAST-MODIFIED:20260413T134940Z
UID:19586-1791399600-1791399600@sound-scribe.com
SUMMARY:1000mods
DESCRIPTION:
URL:https://sound-scribe.com/event/1000mods/
LOCATION:Randal Club\, Karpatská 3089/2\, Bratislava\, 81105\, Slovakia (Slovak Republic)
ATTACH;FMTTYPE=image/jpeg:https://sound-scribe.com/wp-content/uploads/2026/04/1000mods_bratislava_randal_26.jpg
END:VEVENT
BEGIN:VEVENT
DTSTART;TZID=Europe/Prague:20261008T190000
DTEND;TZID=Europe/Prague:20261008T190000
DTSTAMP:20260425T175955
CREATED:20251211T080901Z
LAST-MODIFIED:20251211T080901Z
UID:15418-1791486000-1791486000@sound-scribe.com
SUMMARY:Käärijä
DESCRIPTION:
URL:https://sound-scribe.com/event/kaarija-2/
LOCATION:SaSaZu Club\, Bubenské nábřeží 306/13\, Praha\, 170 00\, Czech Republic
END:VEVENT
BEGIN:VEVENT
DTSTART;TZID=Europe/Prague:20261008T190000
DTEND;TZID=Europe/Prague:20261008T190000
DTSTAMP:20260425T175955
CREATED:20260413T135056Z
LAST-MODIFIED:20260413T135056Z
UID:19589-1791486000-1791486000@sound-scribe.com
SUMMARY:1000mods
DESCRIPTION:
URL:https://sound-scribe.com/event/1000mods-2/
LOCATION:Futurum Music Bar\, Zborovská 82/7\, Praha\, 150 00\, Czech Republic
ATTACH;FMTTYPE=image/jpeg:https://sound-scribe.com/wp-content/uploads/2026/04/1000mods_praha_futurum_26.jpg
END:VEVENT
BEGIN:VEVENT
DTSTART;TZID=Europe/Prague:20261010T190000
DTEND;TZID=Europe/Prague:20261010T190000
DTSTAMP:20260425T175955
CREATED:20260305T151045Z
LAST-MODIFIED:20260305T151045Z
UID:17998-1791658800-1791658800@sound-scribe.com
SUMMARY:Kaizers Orchestra
DESCRIPTION:
URL:https://sound-scribe.com/event/kaizers-orchestra/
LOCATION:Lucerna Music Bar\, Vodičkova 36\, Praha\, 110 00\, Czech Republic
ATTACH;FMTTYPE=image/jpeg:https://sound-scribe.com/wp-content/uploads/2026/03/Kaizers_Orchestra_praha_lucerna_26.jpg
END:VEVENT
BEGIN:VEVENT
DTSTART;TZID=Europe/Prague:20261014T190000
DTEND;TZID=Europe/Prague:20261014T190000
DTSTAMP:20260425T175955
CREATED:20251216T125148Z
LAST-MODIFIED:20251217T075946Z
UID:15763-1792004400-1792004400@sound-scribe.com
SUMMARY:The Devil Wears Prada
DESCRIPTION:
URL:https://sound-scribe.com/event/the-devil-wears-prada/
LOCATION:ARCHA+\, Na Poříčí 1047/26\, Praha\, 110 00\, Czech Republic
ATTACH;FMTTYPE=image/jpeg:https://sound-scribe.com/wp-content/uploads/2025/12/the_devil_wears_prada_praha_archa_26.jpg
END:VEVENT
BEGIN:VEVENT
DTSTART;TZID=Europe/Prague:20261015T180000
DTEND;TZID=Europe/Prague:20261015T180000
DTSTAMP:20260425T175955
CREATED:20251014T104015Z
LAST-MODIFIED:20251014T104015Z
UID:13956-1792087200-1792087200@sound-scribe.com
SUMMARY:Hämatom
DESCRIPTION:
URL:https://sound-scribe.com/event/hamatom/
LOCATION:Palác Akropolis\, Kubelíkova 1548/27\, Praha\, 130 00\, Czech Republic
END:VEVENT
BEGIN:VEVENT
DTSTART;TZID=Europe/Prague:20261015T190000
DTEND;TZID=Europe/Prague:20261015T190000
DTSTAMP:20260425T175955
CREATED:20260223T145337Z
LAST-MODIFIED:20260223T145337Z
UID:17651-1792090800-1792090800@sound-scribe.com
SUMMARY:Laibach
DESCRIPTION:
URL:https://sound-scribe.com/event/laibach-2/
LOCATION:Fléda\, Štefánikova 95\, Brno\, 602 00\, Czech Republic
ATTACH;FMTTYPE=image/jpeg:https://sound-scribe.com/wp-content/uploads/2026/02/laibach_brno_fleda_26.jpg
END:VEVENT
BEGIN:VEVENT
DTSTART;TZID=Europe/Prague:20261017T190000
DTEND;TZID=Europe/Prague:20261017T190000
DTSTAMP:20260425T175955
CREATED:20260331T092546Z
LAST-MODIFIED:20260331T092546Z
UID:19051-1792263600-1792263600@sound-scribe.com
SUMMARY:Des Rocs
DESCRIPTION:
URL:https://sound-scribe.com/event/des-rocs/
LOCATION:Fuchs2\, ostrov Štvanice\, Praha\, 170 00\, Czech Republic
ATTACH;FMTTYPE=image/jpeg:https://sound-scribe.com/wp-content/uploads/2026/03/Des_Rocs_praha_fuchs2_26.jpg
END:VEVENT
BEGIN:VEVENT
DTSTART;TZID=Europe/Prague:20261020T190000
DTEND;TZID=Europe/Prague:20261020T190000
DTSTAMP:20260425T175955
CREATED:20260413T135248Z
LAST-MODIFIED:20260413T135248Z
UID:19592-1792522800-1792522800@sound-scribe.com
SUMMARY:Oh Hiroshima
DESCRIPTION:
URL:https://sound-scribe.com/event/oh-hiroshima/
LOCATION:Strahov 007\, Chaloupeckého 1903/6\, Praha 6\, 16900\, Czech Republic
ATTACH;FMTTYPE=image/jpeg:https://sound-scribe.com/wp-content/uploads/2026/04/oh_hiroshima_praha_strahov_26.jpg
END:VEVENT
BEGIN:VEVENT
DTSTART;TZID=Europe/Prague:20261024T190000
DTEND;TZID=Europe/Prague:20261024T190000
DTSTAMP:20260425T175955
CREATED:20251128T112010Z
LAST-MODIFIED:20251128T112010Z
UID:15232-1792868400-1792868400@sound-scribe.com
SUMMARY:Dimmu Borgir\, Behemoth
DESCRIPTION:
URL:https://sound-scribe.com/event/dimmu-borgir-behemoth/
LOCATION:Hala Vodova\, Vodova 108\, Brno\, 61200\, Czech Republic
ATTACH;FMTTYPE=image/jpeg:https://sound-scribe.com/wp-content/uploads/2025/11/Behemoth-Dimmu-Borgir-web-2223x1158-1.jpg
END:VEVENT
BEGIN:VEVENT
DTSTART;TZID=Europe/Prague:20261024T190000
DTEND;TZID=Europe/Prague:20261024T190000
DTSTAMP:20260425T175955
CREATED:20251211T163343Z
LAST-MODIFIED:20260318T100848Z
UID:15432-1792868400-1792868400@sound-scribe.com
SUMMARY:Clawfinger
DESCRIPTION:
URL:https://sound-scribe.com/event/clawfinger/
LOCATION:Lucerna Music Bar\, Vodičkova 36\, Praha\, 110 00\, Czech Republic
ATTACH;FMTTYPE=image/jpeg:https://sound-scribe.com/wp-content/uploads/2025/12/clawfinger_praha_lucerna_26.jpg
END:VEVENT
BEGIN:VEVENT
DTSTART;TZID=Europe/Prague:20261024T190000
DTEND;TZID=Europe/Prague:20261024T190000
DTSTAMP:20260425T175955
CREATED:20260415T102247Z
LAST-MODIFIED:20260415T102247Z
UID:19643-1792868400-1792868400@sound-scribe.com
SUMMARY:And So I Watch You From Afar\, Caspian
DESCRIPTION:
URL:https://sound-scribe.com/event/and-so-i-watch-you-from-afar-caspian/
LOCATION:Rock Café\, Národní 116/20\, Praha\, 110 00\, Czech Republic
ATTACH;FMTTYPE=image/jpeg:https://sound-scribe.com/wp-content/uploads/2026/04/ASIWYFA_praha_rock_cafe_26.jpg
END:VEVENT
END:VCALENDAR