BEGIN:VCALENDAR
VERSION:2.0
PRODID:-//Sound-Scribe - ECPv6.15.20//NONSGML v1.0//EN
CALSCALE:GREGORIAN
METHOD:PUBLISH
X-WR-CALNAME:Sound-Scribe
X-ORIGINAL-URL:https://sound-scribe.com/en
X-WR-CALDESC:Events for Sound-Scribe
REFRESH-INTERVAL;VALUE=DURATION:PT1H
X-Robots-Tag:noindex
X-PUBLISHED-TTL:PT1H
BEGIN:VTIMEZONE
TZID:Europe/Prague
BEGIN:DAYLIGHT
TZOFFSETFROM:+0100
TZOFFSETTO:+0200
TZNAME:CEST
DTSTART:20250330T010000
END:DAYLIGHT
BEGIN:STANDARD
TZOFFSETFROM:+0200
TZOFFSETTO:+0100
TZNAME:CET
DTSTART:20251026T010000
END:STANDARD
BEGIN:DAYLIGHT
TZOFFSETFROM:+0100
TZOFFSETTO:+0200
TZNAME:CEST
DTSTART:20260329T010000
END:DAYLIGHT
BEGIN:STANDARD
TZOFFSETFROM:+0200
TZOFFSETTO:+0100
TZNAME:CET
DTSTART:20261025T010000
END:STANDARD
BEGIN:DAYLIGHT
TZOFFSETFROM:+0100
TZOFFSETTO:+0200
TZNAME:CEST
DTSTART:20270328T010000
END:DAYLIGHT
BEGIN:STANDARD
TZOFFSETFROM:+0200
TZOFFSETTO:+0100
TZNAME:CET
DTSTART:20271031T010000
END:STANDARD
END:VTIMEZONE
BEGIN:VEVENT
DTSTART;TZID=Europe/Prague:20260502T190000
DTEND;TZID=Europe/Prague:20260502T190000
DTSTAMP:20260423T115949
CREATED:20260331T122407Z
LAST-MODIFIED:20260331T122407Z
UID:19085-1777748400-1777748400@sound-scribe.com
SUMMARY:Motorband - 40 let na cestě
DESCRIPTION:Related
URL:https://sound-scribe.com/en/event/motorband-40-let-na-ceste/
LOCATION:Barrák Music Club\, Fügnerova 595/1\, Ostrava\, 70200\, Czech Republic
ATTACH;FMTTYPE=image/png:https://sound-scribe.com/wp-content/uploads/2026/03/motorband_barrak_ostrava_26.png
END:VEVENT
END:VCALENDAR