BEGIN:VCALENDAR
VERSION:2.0
PRODID:-//Sound-Scribe - ECPv6.15.20//NONSGML v1.0//EN
CALSCALE:GREGORIAN
METHOD:PUBLISH
X-WR-CALNAME:Sound-Scribe
X-ORIGINAL-URL:https://sound-scribe.com/en
X-WR-CALDESC:Events for Sound-Scribe
REFRESH-INTERVAL;VALUE=DURATION:PT1H
X-Robots-Tag:noindex
X-PUBLISHED-TTL:PT1H
BEGIN:VTIMEZONE
TZID:Europe/Prague
BEGIN:DAYLIGHT
TZOFFSETFROM:+0100
TZOFFSETTO:+0200
TZNAME:CEST
DTSTART:20250330T010000
END:DAYLIGHT
BEGIN:STANDARD
TZOFFSETFROM:+0200
TZOFFSETTO:+0100
TZNAME:CET
DTSTART:20251026T010000
END:STANDARD
BEGIN:DAYLIGHT
TZOFFSETFROM:+0100
TZOFFSETTO:+0200
TZNAME:CEST
DTSTART:20260329T010000
END:DAYLIGHT
BEGIN:STANDARD
TZOFFSETFROM:+0200
TZOFFSETTO:+0100
TZNAME:CET
DTSTART:20261025T010000
END:STANDARD
BEGIN:DAYLIGHT
TZOFFSETFROM:+0100
TZOFFSETTO:+0200
TZNAME:CEST
DTSTART:20270328T010000
END:DAYLIGHT
BEGIN:STANDARD
TZOFFSETFROM:+0200
TZOFFSETTO:+0100
TZNAME:CET
DTSTART:20271031T010000
END:STANDARD
END:VTIMEZONE
BEGIN:VEVENT
DTSTART;TZID=Europe/Prague:20260425T190000
DTEND;TZID=Europe/Prague:20260425T190000
DTSTAMP:20260420T220510
CREATED:20251125T063920Z
LAST-MODIFIED:20260109T112752Z
UID:15162-1777143600-1777143600@sound-scribe.com
SUMMARY:Manfred Mann's Earth Band
DESCRIPTION:Related
URL:https://sound-scribe.com/en/event/manfred-manns-earth-band-3/
LOCATION:Majestic Music Club\, Karpatská 3089/2\, Bratislava\, 811 05\, Slovakia (Slovak Republic)
ATTACH;FMTTYPE=image/jpeg:https://sound-scribe.com/wp-content/uploads/2025/11/manfred_manns_earth_band_bratislava_majestic_26.jpg
END:VEVENT
END:VCALENDAR