BEGIN:VCALENDAR
VERSION:2.0
PRODID:-//Sound-Scribe - ECPv6.15.20//NONSGML v1.0//EN
CALSCALE:GREGORIAN
METHOD:PUBLISH
X-WR-CALNAME:Sound-Scribe
X-ORIGINAL-URL:https://sound-scribe.com/en
X-WR-CALDESC:Events for Sound-Scribe
REFRESH-INTERVAL;VALUE=DURATION:PT1H
X-Robots-Tag:noindex
X-PUBLISHED-TTL:PT1H
BEGIN:VTIMEZONE
TZID:Europe/Prague
BEGIN:DAYLIGHT
TZOFFSETFROM:+0100
TZOFFSETTO:+0200
TZNAME:CEST
DTSTART:20250330T010000
END:DAYLIGHT
BEGIN:STANDARD
TZOFFSETFROM:+0200
TZOFFSETTO:+0100
TZNAME:CET
DTSTART:20251026T010000
END:STANDARD
BEGIN:DAYLIGHT
TZOFFSETFROM:+0100
TZOFFSETTO:+0200
TZNAME:CEST
DTSTART:20260329T010000
END:DAYLIGHT
BEGIN:STANDARD
TZOFFSETFROM:+0200
TZOFFSETTO:+0100
TZNAME:CET
DTSTART:20261025T010000
END:STANDARD
BEGIN:DAYLIGHT
TZOFFSETFROM:+0100
TZOFFSETTO:+0200
TZNAME:CEST
DTSTART:20270328T010000
END:DAYLIGHT
BEGIN:STANDARD
TZOFFSETFROM:+0200
TZOFFSETTO:+0100
TZNAME:CET
DTSTART:20271031T010000
END:STANDARD
END:VTIMEZONE
BEGIN:VEVENT
DTSTART;TZID=Europe/Prague:20260416T190000
DTEND;TZID=Europe/Prague:20260416T190000
DTSTAMP:20260422T192926
CREATED:20260223T142424Z
LAST-MODIFIED:20260223T142424Z
UID:17633-1776366000-1776366000@sound-scribe.com
SUMMARY:Lili Refrain
DESCRIPTION:Related
URL:https://sound-scribe.com/en/event/lili-refrain/
LOCATION:Cross Club\, Plynární 1096\, Praha 7\, 170 00\, Czech Republic
ATTACH;FMTTYPE=image/jpeg:https://sound-scribe.com/wp-content/uploads/2026/02/lili_refrain_praha_cross_26.jpg
END:VEVENT
END:VCALENDAR