BEGIN:VCALENDAR
VERSION:2.0
PRODID:-//Sound-Scribe - ECPv6.15.20//NONSGML v1.0//EN
CALSCALE:GREGORIAN
METHOD:PUBLISH
X-WR-CALNAME:Sound-Scribe
X-ORIGINAL-URL:https://sound-scribe.com/en
X-WR-CALDESC:Events for Sound-Scribe
REFRESH-INTERVAL;VALUE=DURATION:PT1H
X-Robots-Tag:noindex
X-PUBLISHED-TTL:PT1H
BEGIN:VTIMEZONE
TZID:Europe/Prague
BEGIN:DAYLIGHT
TZOFFSETFROM:+0100
TZOFFSETTO:+0200
TZNAME:CEST
DTSTART:20250330T010000
END:DAYLIGHT
BEGIN:STANDARD
TZOFFSETFROM:+0200
TZOFFSETTO:+0100
TZNAME:CET
DTSTART:20251026T010000
END:STANDARD
BEGIN:DAYLIGHT
TZOFFSETFROM:+0100
TZOFFSETTO:+0200
TZNAME:CEST
DTSTART:20260329T010000
END:DAYLIGHT
BEGIN:STANDARD
TZOFFSETFROM:+0200
TZOFFSETTO:+0100
TZNAME:CET
DTSTART:20261025T010000
END:STANDARD
BEGIN:DAYLIGHT
TZOFFSETFROM:+0100
TZOFFSETTO:+0200
TZNAME:CEST
DTSTART:20270328T010000
END:DAYLIGHT
BEGIN:STANDARD
TZOFFSETFROM:+0200
TZOFFSETTO:+0100
TZNAME:CET
DTSTART:20271031T010000
END:STANDARD
END:VTIMEZONE
BEGIN:VEVENT
DTSTART;TZID=Europe/Prague:20260422T183000
DTEND;TZID=Europe/Prague:20260422T183000
DTSTAMP:20260422T162213
CREATED:20251014T104000Z
LAST-MODIFIED:20260109T112720Z
UID:13952-1776882600-1776882600@sound-scribe.com
SUMMARY:Full of Hell\, The Body\, Jarhead Fertilizer\, JAD
DESCRIPTION:Related
URL:https://sound-scribe.com/en/event/full-of-hell-the-body-jarhead-fertilizer-jad/
LOCATION:Bike Jesus\, ostrov Štvanice 1125\, Praha 7\, 170 00\, Czech Republic
ATTACH;FMTTYPE=image/jpeg:https://sound-scribe.com/wp-content/uploads/2025/10/full_of_hell_praha_bike_jesus_26.jpg
END:VEVENT
END:VCALENDAR